BEGIN:VCALENDAR
VERSION:2.0
PRODID:-//Plone.org//NONSGML plone.app.event//EN
X-WR-TIMEZONE:America/Sao_Paulo
BEGIN:VEVENT
SUMMARY:Semana da Enfermagem em [ Outros espacos]
DTSTART;TZID=America/Sao_Paulo;VALUE=DATE-TIME:20230519T080000
DTEND;TZID=America/Sao_Paulo;VALUE=DATE-TIME:20230519T110000
DTSTAMP;VALUE=DATE-TIME:20260421T133803Z
UID:8aa101dacfc945329feabce46c723286@150.164.76.86:8080
CREATED;VALUE=DATE-TIME:20230515T105718Z
DESCRIPTION:<p><span>Palestrantes:</span><br /><span>Suzan Caroline Such R
 ibeiro</span><br /><span>Fernanda Moreira</span><br /><span>Fabíola de Ol
 iveira Lima</span><br /><span>Informações gerais: Atividades interativas
  que propiciam refletir e discutir o escutar e o cuidar.</span><br /><br /
 >REGISTRO APENAS PARA  CONTABILIZAR EM ESTATÍSTICAS DA CAC</p>
LAST-MODIFIED;VALUE=DATE-TIME:20230515T142604Z
URL:http://150.164.76.86:8080/cac/agenda/8368480843410183859
END:VEVENT
BEGIN:VTIMEZONE
TZID:America/Sao_Paulo
X-LIC-LOCATION:America/Sao_Paulo
BEGIN:STANDARD
DTSTART;VALUE=DATE-TIME:20230225T230000
TZNAME:BRT
TZOFFSETFROM:-0200
TZOFFSETTO:-0300
END:STANDARD
END:VTIMEZONE
END:VCALENDAR
