BEGIN:VCALENDAR
VERSION:2.0
PRODID:-//Plone.org//NONSGML plone.app.event//EN
X-WR-TIMEZONE:America/Sao_Paulo
BEGIN:VEVENT
SUMMARY:Café com Publicidade: saberes da experiência profissional em di
 álogo com a Universidade (Dia 1) em [ Auditorio A102 do Cad 2]
DTSTART;TZID=America/Sao_Paulo;VALUE=DATE-TIME:20231117T080000
DTEND;TZID=America/Sao_Paulo;VALUE=DATE-TIME:20231117T120000
DTSTAMP;VALUE=DATE-TIME:20260420T131720Z
UID:bd82a7c20f8943aaac4973a5f8a34c27@150.164.76.86:8080
CREATED;VALUE=DATE-TIME:20231031T164312Z
DESCRIPTION:<p>Seminário de conclusão do curso Projetos BI em Publicidad
 e e Propaganda\, com a participação de profissionais da área convidados
  pelos alunos com o intuito de promover trocas de saberes entre o mercado 
 de trabalho de comunicação e a Universidade. Neste primeiro dia\, vão s
 e apresentar 4 profissionais atuantes em agências e instituições na ár
 ea de Publicidade e Propaganda (Agência Fobos\, Tranquilo BH\, Pato Filme
 s e Clube Atlético Mineiro). Após a apresentação de cada profissional\
 , será realizado um bate-papo em dinâmica de roda-viva\, na qual as alun
 as e alunos vão colocar aos convidados as suas principais dúvidas\, curi
 osidades\, sentimentos e reflexões referentes ao campo profissional da Pu
 blicidade e Propaganda. Equipamentos: projetor\, computador\, caixa de som
  e microfone. Uma mesa para café.</p>
LAST-MODIFIED;VALUE=DATE-TIME:20231107T183629Z
URL:http://150.164.76.86:8080/cac/agenda/8362171803860731143
END:VEVENT
BEGIN:VTIMEZONE
TZID:America/Sao_Paulo
X-LIC-LOCATION:America/Sao_Paulo
BEGIN:DAYLIGHT
DTSTART;VALUE=DATE-TIME:20231015T010000
TZNAME:BRST
TZOFFSETFROM:-0300
TZOFFSETTO:-0200
END:DAYLIGHT
END:VTIMEZONE
END:VCALENDAR
