BEGIN:VCALENDAR
VERSION:2.0
PRODID:-//Plone.org//NONSGML plone.app.event//EN
X-WR-TIMEZONE:America/Sao_Paulo
BEGIN:VEVENT
SUMMARY:Modelos de formação docente em [ Outros espacos]
DTSTART;TZID=America/Sao_Paulo;VALUE=DATE-TIME:20230427T190000
DTEND;TZID=America/Sao_Paulo;VALUE=DATE-TIME:20230427T210000
DTSTAMP;VALUE=DATE-TIME:20260421T150014Z
UID:2e4156202bf54b03972212ebd1034774@150.164.76.86:8080
CREATED;VALUE=DATE-TIME:20230405T135302Z
DESCRIPTION:<p><span>Formato: online via Zoom ( Profa. Álida possui zoom
 )</span><br /><span>Palestrante: Profa. Bernadete Gatti </span><br /><spa
 n>Tema: Modelos de formação docente </span><br /><span>Organização: A
 bertura (10 min)\, fala da palestrante (40 minutos)\, debate (1 hora)\, en
 cerramento (10 min) </span><br /><span>Presença confirmada  da Reitora 
 na abertura da atividade.</span></p>
LAST-MODIFIED;VALUE=DATE-TIME:20230405T135327Z
URL:http://150.164.76.86:8080/cac/agenda/8359648830998131410
END:VEVENT
BEGIN:VTIMEZONE
TZID:America/Sao_Paulo
X-LIC-LOCATION:America/Sao_Paulo
BEGIN:STANDARD
DTSTART;VALUE=DATE-TIME:20230225T230000
TZNAME:BRT
TZOFFSETFROM:-0200
TZOFFSETTO:-0300
END:STANDARD
END:VTIMEZONE
END:VCALENDAR
