BEGIN:VCALENDAR
VERSION:2.0
PRODID:-//Plone.org//NONSGML plone.app.event//EN
X-WR-TIMEZONE:America/Sao_Paulo
BEGIN:VEVENT
SUMMARY:Seminário Programa 1000 Futuros Cientistas em [ Auditório B107 d
 o CAD3]
DTSTART;TZID=America/Sao_Paulo;VALUE=DATE-TIME:20240620T080000
DTEND;TZID=America/Sao_Paulo;VALUE=DATE-TIME:20240620T120000
DTSTAMP;VALUE=DATE-TIME:20260420T025955Z
UID:2556775408714bdfa4f5e58e38499b84@150.164.76.86:8080
CREATED;VALUE=DATE-TIME:20240612T120827Z
DESCRIPTION:<p>Seminário formativo de equipes do programa 1000 Futuros Ci
 entistas Equipamentos: Microfone\, audio\, projetor\, mesa\, cadeira.</p>
LAST-MODIFIED;VALUE=DATE-TIME:20240618T124129Z
URL:http://150.164.76.86:8080/cac/agenda/8357665899983939354
END:VEVENT
BEGIN:VTIMEZONE
TZID:America/Sao_Paulo
X-LIC-LOCATION:America/Sao_Paulo
BEGIN:STANDARD
DTSTART;VALUE=DATE-TIME:20240217T230000
TZNAME:BRT
TZOFFSETFROM:-0200
TZOFFSETTO:-0300
END:STANDARD
END:VTIMEZONE
END:VCALENDAR
