BEGIN:VCALENDAR
VERSION:2.0
PRODID:-//Plone.org//NONSGML plone.app.event//EN
X-WR-TIMEZONE:America/Sao_Paulo
BEGIN:VEVENT
SUMMARY:Oficina de Avaliação do Curso FORMAÇÃO EM SAÚDE BUCAL: PROCES
 SO DE TRABALHO E IMPLEMENTAÇÃO MUNICIPAL DA POLÍTICA NACIONAL DE SAÚDE
  BUCAL/FormaSB em [ Auditório B106 do CAD3 - s/ ar condicionado Auditóri
 o B101/102 do CAD 3]
DTSTART;TZID=America/Sao_Paulo;VALUE=DATE-TIME:20250317T080000
DTEND;TZID=America/Sao_Paulo;VALUE=DATE-TIME:20250318T180000
DTSTAMP;VALUE=DATE-TIME:20260419T120215Z
UID:ef142f5ee57c4ea1a5f61ab41114da4b@150.164.76.86:8080
CREATED;VALUE=DATE-TIME:20241218T172636Z
DESCRIPTION:<p>A oficina será realizada com o apoio de computadores e equ
 ipamentos de multimídia para projeção. A programação é apresentaçã
 o e discussão sobre os produtos desenvolvidos e os resultados alcançados
  do curso FORMAB\, por meio da análise dos instrumentos aplicados durante
  a formação. Será realizado trabalho em pequenos grupos e discussões e
 m plenária. Espera-se que ao final da Oficina \, os participantes possam 
 ter dados para a elaboração do relatório técnico das atividades e tamb
 ém o mapeamento dos demais produtos técnicos e científicos relacionadas
  à pesquisa avaliativa do curso.</p>
LAST-MODIFIED;VALUE=DATE-TIME:20250218T134542Z
URL:http://150.164.76.86:8080/cac/agenda/8349365235689927332
END:VEVENT
BEGIN:VTIMEZONE
TZID:America/Sao_Paulo
X-LIC-LOCATION:America/Sao_Paulo
BEGIN:STANDARD
DTSTART;VALUE=DATE-TIME:20250215T230000
TZNAME:BRT
TZOFFSETFROM:-0200
TZOFFSETTO:-0300
END:STANDARD
END:VTIMEZONE
END:VCALENDAR
