BEGIN:VCALENDAR
VERSION:2.0
PRODID:-//Plone.org//NONSGML plone.app.event//EN
X-WR-TIMEZONE:America/Sao_Paulo
BEGIN:VEVENT
SUMMARY:Simpósio Living Lab em [ Auditorio A102 do Cad 2]
DTSTART;TZID=America/Sao_Paulo;VALUE=DATE-TIME:20241031T133000
DTEND;TZID=America/Sao_Paulo;VALUE=DATE-TIME:20241031T173000
DTSTAMP;VALUE=DATE-TIME:20260419T191757Z
UID:08c23f73486645138dd7856dd24d0156@150.164.76.86:8080
CREATED;VALUE=DATE-TIME:20240923T115907Z
DESCRIPTION:Serão necessário 2 microfones\, projeção\, mesa e cadeira 
 no palco.
LAST-MODIFIED;VALUE=DATE-TIME:20240923T132520Z
URL:http://150.164.76.86:8080/cac/agenda/8347124641419584321
END:VEVENT
BEGIN:VTIMEZONE
TZID:America/Sao_Paulo
X-LIC-LOCATION:America/Sao_Paulo
BEGIN:DAYLIGHT
DTSTART;VALUE=DATE-TIME:20241020T010000
TZNAME:BRST
TZOFFSETFROM:-0300
TZOFFSETTO:-0200
END:DAYLIGHT
END:VTIMEZONE
END:VCALENDAR
