BEGIN:VCALENDAR
VERSION:2.0
PRODID:-//Plone.org//NONSGML plone.app.event//EN
X-WR-TIMEZONE:America/Sao_Paulo
BEGIN:VEVENT
SUMMARY:DRCA - REGISTRO ACADEMICO - 2º Semestre/2020 LIMPEZA em [ Auditor
 io A102 do Cad 2 Auditorio A104 do Cad 2]
DTSTART;TZID=America/Sao_Paulo;VALUE=DATE-TIME:20200816T070000
DTEND;TZID=America/Sao_Paulo;VALUE=DATE-TIME:20200819T220000
DTSTAMP;VALUE=DATE-TIME:20260424T195737Z
UID:b48295bd7ec84515b5ffbb7d9e02b562@150.164.76.86:8080
CREATED;VALUE=DATE-TIME:20191219T183838Z
DESCRIPTION:<p><span>PRÉ-RESERVA - período e programação a confirmar</
 span></p>
LAST-MODIFIED;VALUE=DATE-TIME:20200228T125940Z
URL:http://150.164.76.86:8080/cac/agenda/8282577571632716073
END:VEVENT
BEGIN:VTIMEZONE
TZID:America/Sao_Paulo
X-LIC-LOCATION:America/Sao_Paulo
BEGIN:STANDARD
DTSTART;VALUE=DATE-TIME:20200215T230000
TZNAME:BRT
TZOFFSETFROM:-0200
TZOFFSETTO:-0300
END:STANDARD
END:VTIMEZONE
END:VCALENDAR
