BEGIN:VCALENDAR
VERSION:2.0
PRODID:-//Plone.org//NONSGML plone.app.event//EN
X-WR-TIMEZONE:America/Sao_Paulo
BEGIN:VEVENT
SUMMARY:Ação das Juventudes - Engenharia Solidária UFMG em [ Arena da p
 raça de serviços]
DTSTART;TZID=America/Sao_Paulo;VALUE=DATE-TIME:20240828T090000
DTEND;TZID=America/Sao_Paulo;VALUE=DATE-TIME:20240828T150000
DTSTAMP;VALUE=DATE-TIME:20260419T222217Z
UID:8e7ba7bd8de948128b2350fac640f510@150.164.76.86:8080
CREATED;VALUE=DATE-TIME:20240820T204138Z
DESCRIPTION:<p>Ação das Juventudes - Oficinas de Grafite e Vogue em Parc
 eria com o DCE e o Conselho Municipal da Juventude de Belo Horizonte\, Aç
 ão realizada dentro do Evento Mês das Juventudes. Precisaremos de Caixa 
 de Som e Microfone.</p>
LAST-MODIFIED;VALUE=DATE-TIME:20240821T142049Z
URL:http://150.164.76.86:8080/cac/agenda/825944931866888291
END:VEVENT
BEGIN:VTIMEZONE
TZID:America/Sao_Paulo
X-LIC-LOCATION:America/Sao_Paulo
BEGIN:STANDARD
DTSTART;VALUE=DATE-TIME:20240217T230000
TZNAME:BRT
TZOFFSETFROM:-0200
TZOFFSETTO:-0300
END:STANDARD
END:VTIMEZONE
END:VCALENDAR
