BEGIN:VCALENDAR
VERSION:2.0
PRODID:-//Plone.org//NONSGML plone.app.event//EN
X-WR-TIMEZONE:America/Sao_Paulo
BEGIN:VEVENT
SUMMARY:Curso de Capacitação em Gestão e Financiamento Esportivo em [ A
 uditorio A104 do Cad 2]
DTSTART;TZID=America/Sao_Paulo;VALUE=DATE-TIME:20250410T080000
DTEND;TZID=America/Sao_Paulo;VALUE=DATE-TIME:20250411T180000
DTSTAMP;VALUE=DATE-TIME:20260419T105325Z
UID:fbc6f318b17147c394d3d47ff48150cc@150.164.76.86:8080
CREATED;VALUE=DATE-TIME:20250220T130359Z
DESCRIPTION:Curso: o Curso é voltado para atletas\, dirigentes\, gestores
  de entidades desportivas\, profissionais de Educação Física e demais i
 nteressados aprimorarem seus conhecimentos em gestão e financiamento espo
 rtivo. O curso visa capacitar os participantes para elaboração\, execuç
 ão e gestão eficaz de projetos esportivos. O objetivo é fornecer ferram
 entas práticas\, insights e uma rede de contatos para capacitar os partic
 ipantes na gestão eficaz de projetos\, visando impulsionar a sustentabili
 dade das iniciativas desenvolvidas por eles.\n\nEquipamentos: os equipamen
 tos necessários são mesa\, cadeiras\, microfones e projetor\, já dispon
 íveis no auditório.\n\nProgramação\n\nDia 1 (10/04)\n\n- Introdução 
 ao cenário esportivo brasileiro.\n- Fundamentos teóricos e práticos da 
 Lei de Incentivo ao Esporte.\n- Estruturação e elaboração de projetos 
 esportivos.\n- Dinâmicas de grupo e atividades práticas.\n- Interativida
 de com especialistas\n\nDia 2 (11/04)\n\n- Gestão Esportiva e Planejament
 o Estratégico.\n- Construção de Entidades Esportivas e Alinhamento com 
 a Lei de Incentivo ao Esporte.\n- Marco Regulatório das Organizações da
  Sociedade Civil (MROSC) e Transparência na Gestão.
LAST-MODIFIED;VALUE=DATE-TIME:20250221T194122Z
URL:http://150.164.76.86:8080/cac/agenda/8217183461977364644
END:VEVENT
BEGIN:VTIMEZONE
TZID:America/Sao_Paulo
X-LIC-LOCATION:America/Sao_Paulo
BEGIN:STANDARD
DTSTART;VALUE=DATE-TIME:20250215T230000
TZNAME:BRT
TZOFFSETFROM:-0200
TZOFFSETTO:-0300
END:STANDARD
END:VTIMEZONE
END:VCALENDAR
