BEGIN:VCALENDAR
VERSION:2.0
PRODID:-//Plone.org//NONSGML plone.app.event//EN
X-WR-TIMEZONE:America/Sao_Paulo
BEGIN:VEVENT
SUMMARY:Colação de Grau dos Formandos em Letras em [ Auditorio Nobre do 
 CAD 1]
DTSTART;TZID=America/Sao_Paulo;VALUE=DATE-TIME:20220428T170000
DTEND;TZID=America/Sao_Paulo;VALUE=DATE-TIME:20220428T210000
DTSTAMP;VALUE=DATE-TIME:20260422T093549Z
UID:908c753ec4d34e0ab5ef116367f07018@150.164.76.86:8080
CREATED;VALUE=DATE-TIME:20220307T144124Z
DESCRIPTION:Colação de Grau dos formandos em Letras\, 2021/2\, em format
 o híbrido. Será necessário a utilização dos equipamentos para transmi
 ssão da colação no YouTube.
LAST-MODIFIED;VALUE=DATE-TIME:20220307T183953Z
URL:http://150.164.76.86:8080/cac/agenda/8212632621999097413
END:VEVENT
BEGIN:VTIMEZONE
TZID:America/Sao_Paulo
X-LIC-LOCATION:America/Sao_Paulo
BEGIN:STANDARD
DTSTART;VALUE=DATE-TIME:20220219T230000
TZNAME:BRT
TZOFFSETFROM:-0200
TZOFFSETTO:-0300
END:STANDARD
END:VTIMEZONE
END:VCALENDAR
