BEGIN:VCALENDAR
VERSION:2.0
PRODID:-//Plone.org//NONSGML plone.app.event//EN
X-WR-TIMEZONE:America/Sao_Paulo
BEGIN:VEVENT
SUMMARY:Mulheres na Ciência em [ Auditorio A102 do Cad 2]
DTSTART;TZID=America/Sao_Paulo;VALUE=DATE-TIME:20240308T080000
DTEND;TZID=America/Sao_Paulo;VALUE=DATE-TIME:20240308T120000
DTSTAMP;VALUE=DATE-TIME:20260420T063212Z
UID:9640933287604f5580b4a2b6a42e5428@150.164.76.86:8080
CREATED;VALUE=DATE-TIME:20240226T165354Z
DESCRIPTION:<p>Infraestrutura: Som e microfone\; Mesas e cadeiras no palco
 \; hall de entrada para café após o evento. O evento "Mulheres na Ciênc
 ia" que acontecera no dia 8 de março\, dia das mulheres\, de 9h às 11h\,
  foi pensado como um meio de mulheres cientistas conscientizar e compartil
 har de suas realidade e luta diária\, seja nos desafios acadêmicos ou pe
 ssoais. A programação contará com: Abertura da Chefe do Departamento de
  Química\, Professora Arilza Porto\; Fala da Professora Rossimiriam Freit
 as\, Presidente sucessora da Sociedade Brasileira de Química\; Fala da es
 tudante Júlia Braga\, autora do livro “Árvore das Pioneiras”. Finali
 zando o evento\, 5 cientistas convidadas irão compor uma mesa para compar
 tilharem com o público presente sobre suas batalhas e conquistas\, inspir
 ando estudantes da graduação\, da Educação básica e demais participan
 tes presentes no evento. Após a programação\, será servido um café pa
 ra os participantes.</p>
LAST-MODIFIED;VALUE=DATE-TIME:20240305T190241Z
URL:http://150.164.76.86:8080/cac/agenda/8202284842926232026
END:VEVENT
BEGIN:VTIMEZONE
TZID:America/Sao_Paulo
X-LIC-LOCATION:America/Sao_Paulo
BEGIN:STANDARD
DTSTART;VALUE=DATE-TIME:20240217T230000
TZNAME:BRT
TZOFFSETFROM:-0200
TZOFFSETTO:-0300
END:STANDARD
END:VTIMEZONE
END:VCALENDAR
