BEGIN:VCALENDAR
VERSION:2.0
PRODID:-//Plone.org//NONSGML plone.app.event//EN
X-WR-TIMEZONE:America/Sao_Paulo
BEGIN:VEVENT
SUMMARY:Audiência Pública PDI UFMG 2024-2029 - tarde em [ Outros espacos
 ]
DTSTART;TZID=America/Sao_Paulo;VALUE=DATE-TIME:20230830T140000
DTEND;TZID=America/Sao_Paulo;VALUE=DATE-TIME:20230830T180000
DTSTAMP;VALUE=DATE-TIME:20260421T091352Z
UID:6076cb7e428a4601a20a5b5629e50048@150.164.76.86:8080
CREATED;VALUE=DATE-TIME:20230712T192004Z
DESCRIPTION:<p>Turno da tarde Campus Saúde</p>
LAST-MODIFIED;VALUE=DATE-TIME:20230712T192315Z
URL:http://150.164.76.86:8080/cac/agenda/8192462582133614154
END:VEVENT
BEGIN:VTIMEZONE
TZID:America/Sao_Paulo
X-LIC-LOCATION:America/Sao_Paulo
BEGIN:STANDARD
DTSTART;VALUE=DATE-TIME:20230225T230000
TZNAME:BRT
TZOFFSETFROM:-0200
TZOFFSETTO:-0300
END:STANDARD
END:VTIMEZONE
END:VCALENDAR
