BEGIN:VCALENDAR
VERSION:2.0
PRODID:-//Plone.org//NONSGML plone.app.event//EN
X-WR-TIMEZONE:America/Sao_Paulo
BEGIN:VEVENT
SUMMARY:Reunião com Coordenadores de Cursos de Graduação em [ Auditorio
  da Reitoria]
DTSTART;TZID=America/Sao_Paulo;VALUE=DATE-TIME:20240308T140000
DTEND;TZID=America/Sao_Paulo;VALUE=DATE-TIME:20240308T160000
DTSTAMP;VALUE=DATE-TIME:20260420T063329Z
UID:659b250dc1c5450fa1933e739b0c3fe5@150.164.76.86:8080
CREATED;VALUE=DATE-TIME:20240223T121708Z
DESCRIPTION:<p>Microfone de mesa e avulso com pedestal\, projeção e tran
 smissão simultânea para ICA( link fechado).</p>
LAST-MODIFIED;VALUE=DATE-TIME:20240223T192939Z
URL:http://150.164.76.86:8080/cac/agenda/8187815722476271583
END:VEVENT
BEGIN:VTIMEZONE
TZID:America/Sao_Paulo
X-LIC-LOCATION:America/Sao_Paulo
BEGIN:STANDARD
DTSTART;VALUE=DATE-TIME:20240217T230000
TZNAME:BRT
TZOFFSETFROM:-0200
TZOFFSETTO:-0300
END:STANDARD
END:VTIMEZONE
END:VCALENDAR
