BEGIN:VCALENDAR
VERSION:2.0
PRODID:-//Plone.org//NONSGML plone.app.event//EN
X-WR-TIMEZONE:America/Sao_Paulo
BEGIN:VEVENT
SUMMARY:VIII JORMADA DE HISTÓRIA DA ARTE - ARTE E HISTÓRIA - DIÁLOGOS I
 NTERDISCIPLINARES em [ Auditorio A102 do Cad 2]
DTSTART;TZID=America/Sao_Paulo;VALUE=DATE-TIME:20230614T080000
DTEND;TZID=America/Sao_Paulo;VALUE=DATE-TIME:20230616T190000
DTSTAMP;VALUE=DATE-TIME:20260421T122007Z
UID:f8a358226fe44b108de1617a6092c5e0@150.164.76.86:8080
CREATED;VALUE=DATE-TIME:20230411T151842Z
DESCRIPTION:<p>O Grupo de Pesquisa Perspectiva Pictorum e os professores d
 a Residência Pós-doutoral PPGHIS/UFMG UFMG que tem como tutor o professo
 r Magno Moraes Mello\, têm o prazer de convidá-lo (a) a participar do Se
 minário intitulado Arte e História – diálogos interdisciplinares\, qu
 e se realizará entre os dias 14 e 16 de junho de 2023. Trata-se de um eve
 nto inserido na VIII Jornada de estudos em História da Arte. A proposta c
 entral do encontro é refletir sobre as manifestações artísticas\, cult
 urais e metodológicas da obra de arte no Brasil entre os séculos XVI e X
 IX. Deste modo\, pretende-se reunir neste encontro\, pesquisadores e espec
 ialistas interessados em renovar este campo de investigação. Nossos prin
 cipais objetivos estão condicionados nos seguintes eixos: 1 - Aprofundar 
 discussões e análises sobre temas atuais no campo da História da Arte: 
 pintura\, escultura\, música\, retábulo\, azuleijo\, arquitetura e resta
 uro 2 - Desenvolver novas metodologias de pesquisa para o ampo da arte em 
 Minas Colonial impulsionando a teoria e a metodologia da história da arte
  3 - Desenvolver novas formulações teóricas nesse campo do conhecimento
  4 - Proporcionar condições de realização de trabalhos conjuntos entre
  os pesquisadores envolvidos na Jornada e alunos de pós graduação 5 - O
 rganizar publicaçoes específicas no campo da história da arter do Tempo
  Colonial O nosso intento é reconhecer a relação entre a História da A
 rte e a História da Ciência com seus pressupostos históricos e culturai
 s. Os conhecimentos dos textos científicos\, às questões dos tratados\,
  às variações de técnicas\, modelos ou formulários\, envolvidos no co
 nceito de procedimentos operacionais estão nitidamente explorados nos cen
 tros da produção artística\, seja\, ele a o dos grandes mestres ou das 
 mais simples oficinas. O seu universo produtivo avança não somente dentr
 o do continente europeu\, mas alastra para a América Portuguesa\, Améric
 a Espanhola\, como ainda é evidente a sua manifestação no Oriente.Outro
  ponto em discussão é abordar os principais aspectos relacionados com a 
 construção do espaço figurativo e suas relações com a perspectiva\, c
 om a cenografia e com a tratadística coeva. Ou seja\, estabelecer uma abo
 rdagem própria para a interpretação do espaço pictórico desenvolvido 
 durante uma determinada época. Assim\, a cenografia\, a quadratura e a pi
 ntura passam a dialogar não só por meio de um ponto de vista formal\, ma
 s\, em especial\, sob o ponto de vista histórico-cultural. Com efeito\, c
 iência\, técnica e arte\, embora se apresentem como domínios distintos\
 , têm suas histórias e seus processos de elaboração imbricados. Como a
 specto complementar e bem diferente do que acontece quero lembrar que o es
 tudo organizado das Ordens Religiosas no Brasil com núcleos de investigad
 ores\, alunos de graduação e de pós-graduação pode nos ajudar na comp
 lementação singular e minuciosa das diferentes e diversas manietações 
 artísticas por todo o país. Estudar cada Ordem religiosa concentrando n
 úcleos isolados como pintura\, arquitetura\, decoração retabular\, escu
 ltura e história podem fornecer um conhecimento fragmentado que depois se
  aglutinaria num liame de conhecimentos até então nunca imaginado. Uma p
 roposta a ser pesada por todos nós. Finalmente\, estes seminários abrem 
 novas perspectivas para um estudo mais apurado visando o descortinamento d
 este amplo universo pictórico que é a quadratura.</p>
LAST-MODIFIED;VALUE=DATE-TIME:20230414T150519Z
URL:http://150.164.76.86:8080/cac/agenda/8180661440125156852
END:VEVENT
BEGIN:VTIMEZONE
TZID:America/Sao_Paulo
X-LIC-LOCATION:America/Sao_Paulo
BEGIN:STANDARD
DTSTART;VALUE=DATE-TIME:20230225T230000
TZNAME:BRT
TZOFFSETFROM:-0200
TZOFFSETTO:-0300
END:STANDARD
END:VTIMEZONE
END:VCALENDAR
