BEGIN:VCALENDAR
VERSION:2.0
PRODID:-//Plone.org//NONSGML plone.app.event//EN
X-WR-TIMEZONE:America/Sao_Paulo
BEGIN:VEVENT
SUMMARY:Abertura Projeto Extensão InterAgindo_ Programa Observatório da 
 Juventude_Faculdade de Educação em [ Auditorio Nobre do CAD 1]
DTSTART;TZID=America/Sao_Paulo;VALUE=DATE-TIME:20220420T120000
DTEND;TZID=America/Sao_Paulo;VALUE=DATE-TIME:20220420T173000
DTSTAMP;VALUE=DATE-TIME:20260422T094046Z
UID:288309dc90624caa9f8fbd8eb9b45fbb@150.164.76.86:8080
CREATED;VALUE=DATE-TIME:20220401T175810Z
DESCRIPTION:Equipamento\n\nMicrofone\nProjeção\nSom\n\nProgramação\n\n
 12:00 às 14:00 - Organização do espaço\n14:00 às 14:30 - Recepção d
 os jovens\n14:30 às 15:00 - Mesa de abertura\n15:00 às 15:30 - Atividade
  Cultural\n15:30 às 17:00 - Apresentação dos jovens / Equipe / Projeto\
 n17:00 Encerramento
LAST-MODIFIED;VALUE=DATE-TIME:20220407T215833Z
URL:http://150.164.76.86:8080/cac/agenda/817392084011034714
END:VEVENT
BEGIN:VTIMEZONE
TZID:America/Sao_Paulo
X-LIC-LOCATION:America/Sao_Paulo
BEGIN:STANDARD
DTSTART;VALUE=DATE-TIME:20220219T230000
TZNAME:BRT
TZOFFSETFROM:-0200
TZOFFSETTO:-0300
END:STANDARD
END:VTIMEZONE
END:VCALENDAR
