BEGIN:VCALENDAR
VERSION:2.0
PRODID:-//Plone.org//NONSGML plone.app.event//EN
X-WR-TIMEZONE:America/Sao_Paulo
BEGIN:VEVENT
SUMMARY:Dia Mundial da PI em [ Auditorio A102 do Cad 2]
DTSTART;TZID=America/Sao_Paulo;VALUE=DATE-TIME:20250423T080000
DTEND;TZID=America/Sao_Paulo;VALUE=DATE-TIME:20250423T170000
DTSTAMP;VALUE=DATE-TIME:20260419T115942Z
UID:82cb7b508bdb44ad88a41c8d228cca1d@150.164.76.86:8080
CREATED;VALUE=DATE-TIME:20250327T183701Z
DESCRIPTION:Evento de Comemoração ao Dia Mundial da PI.\nPara cinquenta 
 pessoas - com notebook no púlpito a ser levado pela CTIT.\nDisponibilidad
 e de Projetor.\nPrecisaremos de microfone para perguntas.
LAST-MODIFIED;VALUE=DATE-TIME:20250410T192833Z
URL:http://150.164.76.86:8080/cac/agenda/8166204280854071576
END:VEVENT
BEGIN:VTIMEZONE
TZID:America/Sao_Paulo
X-LIC-LOCATION:America/Sao_Paulo
BEGIN:STANDARD
DTSTART;VALUE=DATE-TIME:20250215T230000
TZNAME:BRT
TZOFFSETFROM:-0200
TZOFFSETTO:-0300
END:STANDARD
END:VTIMEZONE
END:VCALENDAR
