BEGIN:VCALENDAR
VERSION:2.0
PRODID:-//Plone.org//NONSGML plone.app.event//EN
X-WR-TIMEZONE:America/Sao_Paulo
BEGIN:VEVENT
SUMMARY:Colação de grau  oficial em [ Auditorio Nobre do CAD 1]
DTSTART;TZID=America/Sao_Paulo;VALUE=DATE-TIME:20240731T141000
DTEND;TZID=America/Sao_Paulo;VALUE=DATE-TIME:20240731T190000
DTSTAMP;VALUE=DATE-TIME:20260419T234933Z
UID:0fe87afc107c4c6792964ede37d5ab2a@150.164.76.86:8080
CREATED;VALUE=DATE-TIME:20240320T185250Z
DESCRIPTION:Colação de grau oficial
LAST-MODIFIED;VALUE=DATE-TIME:20240726T172135Z
URL:http://150.164.76.86:8080/cac/agenda/8146029116314998777
END:VEVENT
BEGIN:VTIMEZONE
TZID:America/Sao_Paulo
X-LIC-LOCATION:America/Sao_Paulo
BEGIN:STANDARD
DTSTART;VALUE=DATE-TIME:20240217T230000
TZNAME:BRT
TZOFFSETFROM:-0200
TZOFFSETTO:-0300
END:STANDARD
END:VTIMEZONE
END:VCALENDAR
