BEGIN:VCALENDAR
VERSION:2.0
PRODID:-//Plone.org//NONSGML plone.app.event//EN
X-WR-TIMEZONE:America/Sao_Paulo
BEGIN:VEVENT
SUMMARY:Apoio técnico para transmissão de video aula - Procuradoria Fede
 ral em [ Outros espacos]
DTSTART;TZID=America/Sao_Paulo;VALUE=DATE-TIME:20230712T140000
DTEND;TZID=America/Sao_Paulo;VALUE=DATE-TIME:20230712T170000
DTSTAMP;VALUE=DATE-TIME:20260421T122126Z
UID:64f31cd65927456f9b9def98bdbb668d@150.164.76.86:8080
CREATED;VALUE=DATE-TIME:20230630T124944Z
DESCRIPTION:<p><span>apoio para transmissão de vídeo de aula ministrada 
 pelo Prof. Ruben\, aos Procuradores Federais da Câmara de Ciência e Tecn
 ologia.</span><br /><br /><span>A aula será ministrada no dia 12/07/23 as
  14:00 horas na sala 6009 - Prédio da Reitoria\, e terá a presença fís
 ica de 4 Procuradores Federais e do Prof. Rubén\, os demais procuradores 
 participarão da aula via plataforma "Team´s".</span></p>
LAST-MODIFIED;VALUE=DATE-TIME:20230630T125004Z
URL:http://150.164.76.86:8080/cac/agenda/8108022279318859704
END:VEVENT
BEGIN:VTIMEZONE
TZID:America/Sao_Paulo
X-LIC-LOCATION:America/Sao_Paulo
BEGIN:STANDARD
DTSTART;VALUE=DATE-TIME:20230225T230000
TZNAME:BRT
TZOFFSETFROM:-0200
TZOFFSETTO:-0300
END:STANDARD
END:VTIMEZONE
END:VCALENDAR
