BEGIN:VCALENDAR
VERSION:2.0
PRODID:-//Plone.org//NONSGML plone.app.event//EN
X-WR-TIMEZONE:America/Sao_Paulo
BEGIN:VEVENT
SUMMARY:Reunião Fisiologia Vegetal em [ Auditorio Nobre do CAD 1 Outros e
 spacos]
DTSTART;TZID=America/Sao_Paulo;VALUE=DATE-TIME:20230616T080000
DTEND;TZID=America/Sao_Paulo;VALUE=DATE-TIME:20230616T090000
DTSTAMP;VALUE=DATE-TIME:20260421T145721Z
UID:316f7bbb7ebb4ecfbdf626bc12a7eb25@150.164.76.86:8080
CREATED;VALUE=DATE-TIME:20230526T171242Z
DESCRIPTION:<p>Reunião com alunos da Fisiologia Vegetal</p>
LAST-MODIFIED;VALUE=DATE-TIME:20230526T171538Z
URL:http://150.164.76.86:8080/cac/agenda/8100145575454214007
END:VEVENT
BEGIN:VTIMEZONE
TZID:America/Sao_Paulo
X-LIC-LOCATION:America/Sao_Paulo
BEGIN:STANDARD
DTSTART;VALUE=DATE-TIME:20230225T230000
TZNAME:BRT
TZOFFSETFROM:-0200
TZOFFSETTO:-0300
END:STANDARD
END:VTIMEZONE
END:VCALENDAR
