BEGIN:VCALENDAR
VERSION:2.0
PRODID:-//Plone.org//NONSGML plone.app.event//EN
X-WR-TIMEZONE:America/Sao_Paulo
BEGIN:VEVENT
SUMMARY:XXV Congresso Brasileiro de Reprodução Animal em [ Auditório B1
 01/102 do CAD 3 Auditório B106 do CAD3 Auditório B107 do CAD3 Auditorio 
 Nobre do CAD 1]
DTSTART;TZID=America/Sao_Paulo;VALUE=DATE-TIME:20230522T070000
DTEND;TZID=America/Sao_Paulo;VALUE=DATE-TIME:20230526T220000
DTSTAMP;VALUE=DATE-TIME:20260421T145825Z
UID:155625e252694ad08ca996ca49791aff@150.164.76.86:8080
CREATED;VALUE=DATE-TIME:20230111T195055Z
DESCRIPTION:<p>Congresso visa reunir estudantes e profissionais da área d
 e reprodução animal\, com palestrantes nacionais e internacionais. Na pr
 ogramação\, prevê-se usar o auditório Nobre\, nas manhãs\, e os audit
 órios do CAD3\, às tardes. Conforme informado pela coordenação da CAC\
 , o serviço técnico audiovisual\, bem como os equipamentos necessários\
 , serão providenciados pela organização do evento\, tendo em vista a im
 possibilidade da CAC prestar tal serviço.</p>
LAST-MODIFIED;VALUE=DATE-TIME:20230426T203629Z
URL:http://150.164.76.86:8080/cac/agenda/8096005838033303228
END:VEVENT
BEGIN:VTIMEZONE
TZID:America/Sao_Paulo
X-LIC-LOCATION:America/Sao_Paulo
BEGIN:STANDARD
DTSTART;VALUE=DATE-TIME:20230225T230000
TZNAME:BRT
TZOFFSETFROM:-0200
TZOFFSETTO:-0300
END:STANDARD
END:VTIMEZONE
END:VCALENDAR
