BEGIN:VCALENDAR
VERSION:2.0
PRODID:-//Plone.org//NONSGML plone.app.event//EN
X-WR-TIMEZONE:America/Sao_Paulo
BEGIN:VEVENT
SUMMARY:Reunião com Coordenadores de Cursos de Graduação em [ Auditóri
 o B106 do CAD3]
DTSTART;TZID=America/Sao_Paulo;VALUE=DATE-TIME:20240612T140000
DTEND;TZID=America/Sao_Paulo;VALUE=DATE-TIME:20240612T163000
DTSTAMP;VALUE=DATE-TIME:20260420T013857Z
UID:bac3e43b4a954d88a1087c67969fdf90@150.164.76.86:8080
CREATED;VALUE=DATE-TIME:20240610T154728Z
DESCRIPTION:<p>Microfone de mesa\, projeção\, microfone avulso com pedes
 tal\, transmissão para ICA/Montes Claros link fechado.</p>
LAST-MODIFIED;VALUE=DATE-TIME:20240610T160426Z
URL:http://150.164.76.86:8080/cac/agenda/8091289375284450118
END:VEVENT
BEGIN:VTIMEZONE
TZID:America/Sao_Paulo
X-LIC-LOCATION:America/Sao_Paulo
BEGIN:STANDARD
DTSTART;VALUE=DATE-TIME:20240217T230000
TZNAME:BRT
TZOFFSETFROM:-0200
TZOFFSETTO:-0300
END:STANDARD
END:VTIMEZONE
END:VCALENDAR
