BEGIN:VCALENDAR
VERSION:2.0
PRODID:-//Plone.org//NONSGML plone.app.event//EN
X-WR-TIMEZONE:America/Sao_Paulo
BEGIN:VEVENT
SUMMARY:BANCA DE HETEROIDENTIFICAÇÃO em [ Auditório B106 do CAD3 Audit
 ório B107 do CAD3]
DTSTART;TZID=America/Sao_Paulo;VALUE=DATE-TIME:20241014T120000
DTEND;TZID=America/Sao_Paulo;VALUE=DATE-TIME:20241014T180000
DTSTAMP;VALUE=DATE-TIME:20260419T193231Z
UID:c3f48c8670724d92ac224f23780bf986@150.164.76.86:8080
CREATED;VALUE=DATE-TIME:20241003T195207Z
DESCRIPTION:Banca de Heteroidentificação para candidatos da modalidade d
 e reserva de vagas para negros\, nos Processos Seletivos da UFMG
LAST-MODIFIED;VALUE=DATE-TIME:20241007T123138Z
URL:http://150.164.76.86:8080/cac/agenda/8088952383798488303
END:VEVENT
BEGIN:VTIMEZONE
TZID:America/Sao_Paulo
X-LIC-LOCATION:America/Sao_Paulo
BEGIN:STANDARD
DTSTART;VALUE=DATE-TIME:20240217T230000
TZNAME:BRT
TZOFFSETFROM:-0200
TZOFFSETTO:-0300
END:STANDARD
END:VTIMEZONE
END:VCALENDAR
