BEGIN:VCALENDAR
VERSION:2.0
PRODID:-//Plone.org//NONSGML plone.app.event//EN
X-WR-TIMEZONE:America/Sao_Paulo
BEGIN:VEVENT
SUMMARY:Recepção de Docentes - DRH em [ Auditorio A104 do Cad 2]
DTSTART;TZID=America/Sao_Paulo;VALUE=DATE-TIME:20240301T130000
DTEND;TZID=America/Sao_Paulo;VALUE=DATE-TIME:20240301T170000
DTSTAMP;VALUE=DATE-TIME:20260420T044357Z
UID:d44721db05e8493da9788f65ae6ee4fb@150.164.76.86:8080
CREATED;VALUE=DATE-TIME:20240215T132938Z
DESCRIPTION:<p>Recepção de Docentes</p>
LAST-MODIFIED;VALUE=DATE-TIME:20240222T135823Z
URL:http://150.164.76.86:8080/cac/agenda/80786003929686816
END:VEVENT
BEGIN:VTIMEZONE
TZID:America/Sao_Paulo
X-LIC-LOCATION:America/Sao_Paulo
BEGIN:STANDARD
DTSTART;VALUE=DATE-TIME:20240217T230000
TZNAME:BRT
TZOFFSETFROM:-0200
TZOFFSETTO:-0300
END:STANDARD
END:VTIMEZONE
END:VCALENDAR
