BEGIN:VCALENDAR
VERSION:2.0
PRODID:-//Plone.org//NONSGML plone.app.event//EN
X-WR-TIMEZONE:America/Sao_Paulo
BEGIN:VEVENT
SUMMARY:Quarta doze e Trinta em [ Arena da praça de serviços]
DTSTART;TZID=America/Sao_Paulo;VALUE=DATE-TIME:20231108T080000
DTEND;TZID=America/Sao_Paulo;VALUE=DATE-TIME:20231108T150000
DTSTAMP;VALUE=DATE-TIME:20260420T131608Z
UID:8fda8d4e020c4c0eb99582dee6d8fb5a@150.164.76.86:8080
CREATED;VALUE=DATE-TIME:20221124T163554Z
DESCRIPTION:Quarta doze e trinta. Somente reserva de espaço\, equipamento
 s a definir.
LAST-MODIFIED;VALUE=DATE-TIME:20221129T151213Z
URL:http://150.164.76.86:8080/cac/agenda/8073109989609915703
END:VEVENT
BEGIN:VTIMEZONE
TZID:America/Sao_Paulo
X-LIC-LOCATION:America/Sao_Paulo
BEGIN:DAYLIGHT
DTSTART;VALUE=DATE-TIME:20231015T010000
TZNAME:BRST
TZOFFSETFROM:-0300
TZOFFSETTO:-0200
END:DAYLIGHT
END:VTIMEZONE
END:VCALENDAR
