BEGIN:VCALENDAR
VERSION:2.0
PRODID:-//Plone.org//NONSGML plone.app.event//EN
X-WR-TIMEZONE:America/Sao_Paulo
BEGIN:VEVENT
SUMMARY:Jornada de empreendedorismo acadêmico da Rede Mineira de Nanomedi
 cina Teranóstica em [ Auditório B107 do CAD3]
DTSTART;TZID=America/Sao_Paulo;VALUE=DATE-TIME:20230412T091700
DTEND;TZID=America/Sao_Paulo;VALUE=DATE-TIME:20230414T091700
DTSTAMP;VALUE=DATE-TIME:20260421T145728Z
UID:89634227aeeb4499ae92cd3e42462082@150.164.76.86:8080
CREATED;VALUE=DATE-TIME:20230123T150602Z
DESCRIPTION:<p>Este evento tem por finalizade capacitar os membros da Rede
  Mineira de Nanomedicina Teranóstica\, coordenada pela UFMG\, na transpos
 ição de resultados acadêmicos em possibeis produtos para o mercado. Ele
  será oferecido pela empresa Merck Serão 3 dias de palestras e dinamicas
  com os participantes e necessitaremos de 1 data-show e acesso a rede wi-f
 i. Os demais recursos necessários como: caneta\, bloco e postits serão f
 ornecidos pela equipe do projeto.</p>
LAST-MODIFIED;VALUE=DATE-TIME:20230213T164017Z
URL:http://150.164.76.86:8080/cac/agenda/8050983885082428321
END:VEVENT
BEGIN:VTIMEZONE
TZID:America/Sao_Paulo
X-LIC-LOCATION:America/Sao_Paulo
BEGIN:STANDARD
DTSTART;VALUE=DATE-TIME:20230225T230000
TZNAME:BRT
TZOFFSETFROM:-0200
TZOFFSETTO:-0300
END:STANDARD
END:VTIMEZONE
END:VCALENDAR
