BEGIN:VCALENDAR
VERSION:2.0
PRODID:-//Plone.org//NONSGML plone.app.event//EN
X-WR-TIMEZONE:America/Sao_Paulo
BEGIN:VEVENT
SUMMARY:1o. Encontro Nacional de Brigadistas Florestais Voluntários(as) e
 m [ Auditorio A104 do Cad 2]
DTSTART;TZID=America/Sao_Paulo;VALUE=DATE-TIME:20221103T080000
DTEND;TZID=America/Sao_Paulo;VALUE=DATE-TIME:20221105T180000
DTSTAMP;VALUE=DATE-TIME:20260421T204521Z
UID:f4eb6a1376ca442ca9bc98f69f0e2174@150.164.76.86:8080
CREATED;VALUE=DATE-TIME:20220929T183957Z
DESCRIPTION:O 1º Encontro Nacional de Brigadistas Florestais Voluntários
 (as) ocorrerá na parte da tarde e noite do dia 03/11 (sendo necessária o
 rganização do espaço na parte da manhã)\, manhã-tarde-noite do dia 04
 /11\, e manhã-tarde do dia 05/11. \nRessalto que para a parte da manhã d
 o dia 05/11\, foi acordado com a Cássia (coordenadora da CAC)\, que terem
 os a assistência do Cleitinho. Para a parte da tarde do dia 05/11\, não 
 será necessário apoio de profissionais. \nHaverá transmissão do evento
  pelo canal do youtube da PROEX.
LAST-MODIFIED;VALUE=DATE-TIME:20221003T135726Z
URL:http://150.164.76.86:8080/cac/agenda/8047179305867031863
END:VEVENT
BEGIN:VTIMEZONE
TZID:America/Sao_Paulo
X-LIC-LOCATION:America/Sao_Paulo
BEGIN:DAYLIGHT
DTSTART;VALUE=DATE-TIME:20221016T010000
TZNAME:BRST
TZOFFSETFROM:-0300
TZOFFSETTO:-0200
END:DAYLIGHT
END:VTIMEZONE
END:VCALENDAR
