BEGIN:VCALENDAR
VERSION:2.0
PRODID:-//Plone.org//NONSGML plone.app.event//EN
X-WR-TIMEZONE:America/Sao_Paulo
BEGIN:VEVENT
SUMMARY:Assembleia Sindical Estatutária do SINDIFES em [ Auditorio A102 d
 o Cad 2]
DTSTART;TZID=America/Sao_Paulo;VALUE=DATE-TIME:20231221T080000
DTEND;TZID=America/Sao_Paulo;VALUE=DATE-TIME:20231221T130000
DTSTAMP;VALUE=DATE-TIME:20260420T114854Z
UID:ea92ff6a9c264ae2aa2f1367a2ab0cee@150.164.76.86:8080
CREATED;VALUE=DATE-TIME:20231211T152144Z
DESCRIPTION:<p>Assembleia Sindical Estatutária</p>
LAST-MODIFIED;VALUE=DATE-TIME:20231214T122845Z
URL:http://150.164.76.86:8080/cac/agenda/8039358730958775806
END:VEVENT
BEGIN:VTIMEZONE
TZID:America/Sao_Paulo
X-LIC-LOCATION:America/Sao_Paulo
BEGIN:DAYLIGHT
DTSTART;VALUE=DATE-TIME:20231015T010000
TZNAME:BRST
TZOFFSETFROM:-0300
TZOFFSETTO:-0200
END:DAYLIGHT
END:VTIMEZONE
END:VCALENDAR
