BEGIN:VCALENDAR
VERSION:2.0
PRODID:-//Plone.org//NONSGML plone.app.event//EN
X-WR-TIMEZONE:America/Sao_Paulo
BEGIN:VEVENT
SUMMARY:Strive Custumer Network Merck UFMG em [ Auditório B106 do CAD3]
DTSTART;TZID=America/Sao_Paulo;VALUE=DATE-TIME:20241205T080000
DTEND;TZID=America/Sao_Paulo;VALUE=DATE-TIME:20241205T170000
DTSTAMP;VALUE=DATE-TIME:20260419T163545Z
UID:d7ae1a848d6a49dfbf6d0dd2f7e7c561@150.164.76.86:8080
CREATED;VALUE=DATE-TIME:20230925T130832Z
DESCRIPTION:<p>Jornada de empreendedorismo em nano Merck UFMG</p>
LAST-MODIFIED;VALUE=DATE-TIME:20241127T134847Z
URL:http://150.164.76.86:8080/cac/agenda/8032349167375118205
END:VEVENT
BEGIN:VTIMEZONE
TZID:America/Sao_Paulo
X-LIC-LOCATION:America/Sao_Paulo
BEGIN:DAYLIGHT
DTSTART;VALUE=DATE-TIME:20241020T010000
TZNAME:BRST
TZOFFSETFROM:-0300
TZOFFSETTO:-0200
END:DAYLIGHT
END:VTIMEZONE
END:VCALENDAR
