BEGIN:VCALENDAR
VERSION:2.0
PRODID:-//Plone.org//NONSGML plone.app.event//EN
X-WR-TIMEZONE:America/Sao_Paulo
BEGIN:VEVENT
SUMMARY:DOMINGO NO CAMPUS em [ Auditorio da Reitoria Saguao da Reitoria Gr
 amado da Reitoria Auditorio Nobre do CAD 1 Auditorio 1A do CAD 1 Auditorio
  2A do CAD 1 Auditorio A102 do Cad 2 Auditorio A104 do Cad 2 Auditório B1
 01/102 do CAD 3 Auditório B106 do CAD3 Auditório B107 do CAD3 Auditório
  B301 do CAD 3 Auditório B302 do CAD 3 Auditório B306 do CAD3 Outros esp
 acos]
DTSTART;TZID=America/Sao_Paulo;VALUE=DATE-TIME:20240505T060000
DTEND;TZID=America/Sao_Paulo;VALUE=DATE-TIME:20240505T200000
DTSTAMP;VALUE=DATE-TIME:20260420T014342Z
UID:75e778eb5ce74641b1ea1dc784b714dc@150.164.76.86:8080
CREATED;VALUE=DATE-TIME:20231106T135201Z
DESCRIPTION:<p>DOMINGO NO CAMPUS - EVENTO DO CALENDÁRIO ACADÊMICO</p>
LAST-MODIFIED;VALUE=DATE-TIME:20240426T140020Z
URL:http://150.164.76.86:8080/cac/agenda/800943872835502635
END:VEVENT
BEGIN:VTIMEZONE
TZID:America/Sao_Paulo
X-LIC-LOCATION:America/Sao_Paulo
BEGIN:STANDARD
DTSTART;VALUE=DATE-TIME:20240217T230000
TZNAME:BRT
TZOFFSETFROM:-0200
TZOFFSETTO:-0300
END:STANDARD
END:VTIMEZONE
END:VCALENDAR
