BEGIN:VCALENDAR
VERSION:2.0
PRODID:-//Plone.org//NONSGML plone.app.event//EN
X-WR-TIMEZONE:America/Sao_Paulo
BEGIN:VEVENT
SUMMARY:Apresentação do grupo de dança Guapas de Alhambra em [ Arena da
  praça de serviços]
DTSTART;TZID=America/Sao_Paulo;VALUE=DATE-TIME:20230902T100000
DTEND;TZID=America/Sao_Paulo;VALUE=DATE-TIME:20230902T120000
DTSTAMP;VALUE=DATE-TIME:20260421T062336Z
UID:d30350597f264866b57c78c5492f03cd@150.164.76.86:8080
CREATED;VALUE=DATE-TIME:20230822T144833Z
DESCRIPTION:<p><span>Programa Social Incluir\, realizado na Escola de Enge
 nharia\, que tem atendido centenas de crianças e jovens da periferia de B
 H e região metropolitana. Visando propiciar um momento de lazer e cultura
 l para esse público e seus familiares\, solicito-lhes permissão para uti
 lizar a arena da praça de serviços no sábado\, dia 02/09/2023\, entre 1
 0h00 -12h00\, para a apresentação do grupo de dança Guapas de Alhambra.
 </span></p>
LAST-MODIFIED;VALUE=DATE-TIME:20230822T144852Z
URL:http://150.164.76.86:8080/cac/agenda/8004662540531632115
END:VEVENT
BEGIN:VTIMEZONE
TZID:America/Sao_Paulo
X-LIC-LOCATION:America/Sao_Paulo
BEGIN:STANDARD
DTSTART;VALUE=DATE-TIME:20230225T230000
TZNAME:BRT
TZOFFSETFROM:-0200
TZOFFSETTO:-0300
END:STANDARD
END:VTIMEZONE
END:VCALENDAR
