BEGIN:VCALENDAR
VERSION:2.0
PRODID:-//Plone.org//NONSGML plone.app.event//EN
X-WR-TIMEZONE:America/Sao_Paulo
BEGIN:VEVENT
SUMMARY:Bloqueio Vice-reitor em [ Auditorio Nobre do CAD 1]
DTSTART;TZID=America/Sao_Paulo;VALUE=DATE-TIME:20241005T080000
DTEND;TZID=America/Sao_Paulo;VALUE=DATE-TIME:20241006T200000
DTSTAMP;VALUE=DATE-TIME:20260419T193230Z
UID:adf5e6a70bac474dad3260fec5ee9a4b@150.164.76.86:8080
CREATED;VALUE=DATE-TIME:20231218T195408Z
DESCRIPTION:<p>bloqueio Gabinete vice-reitor</p>
LAST-MODIFIED;VALUE=DATE-TIME:20240301T180813Z
URL:http://150.164.76.86:8080/cac/agenda/8000701232783430403
END:VEVENT
BEGIN:VTIMEZONE
TZID:America/Sao_Paulo
X-LIC-LOCATION:America/Sao_Paulo
BEGIN:STANDARD
DTSTART;VALUE=DATE-TIME:20240217T230000
TZNAME:BRT
TZOFFSETFROM:-0200
TZOFFSETTO:-0300
END:STANDARD
END:VTIMEZONE
END:VCALENDAR
