BEGIN:VCALENDAR
VERSION:2.0
PRODID:-//Plone.org//NONSGML plone.app.event//EN
X-WR-TIMEZONE:America/Sao_Paulo
BEGIN:VEVENT
SUMMARY:Palestra para estudantes ingressantes e Reunião de Pais e Estudan
 tes Ingressantes no COLTEC - Cursos técnicos integrados em [ Auditorio No
 bre do CAD 1]
DTSTART;TZID=America/Sao_Paulo;VALUE=DATE-TIME:20250203T080000
DTEND;TZID=America/Sao_Paulo;VALUE=DATE-TIME:20250203T210000
DTSTAMP;VALUE=DATE-TIME:20260419T120345Z
UID:be75de129acb4b80919f3dff2dab9dbc@150.164.76.86:8080
CREATED;VALUE=DATE-TIME:20241104T131559Z
DESCRIPTION:<p>Palestra para os alunos e\, após a palestra\, Reunião de 
 recepção aos novos estudantes dos cursos técnicos integrados e seus pai
 s. Boas vindas à instituição\, apresentação da escola por parte da di
 retoria. Tendo em vista o tamanho do público\, necessitamos do auditório
  nobre do cad1\, conforme fazemos todos os anos. Estou à disposição par
 a esclarecimentos no número 3409-4963 ou 99444-4852. Atte.\, Patrícia Ca
 ppuccio de Resende</p>
LAST-MODIFIED;VALUE=DATE-TIME:20250106T140318Z
URL:http://150.164.76.86:8080/cac/agenda/7996343217934987156
END:VEVENT
BEGIN:VTIMEZONE
TZID:America/Sao_Paulo
X-LIC-LOCATION:America/Sao_Paulo
BEGIN:DAYLIGHT
DTSTART;VALUE=DATE-TIME:20241020T010000
TZNAME:BRST
TZOFFSETFROM:-0300
TZOFFSETTO:-0200
END:DAYLIGHT
END:VTIMEZONE
END:VCALENDAR
