BEGIN:VCALENDAR
VERSION:2.0
PRODID:-//Plone.org//NONSGML plone.app.event//EN
X-WR-TIMEZONE:America/Sao_Paulo
BEGIN:VEVENT
SUMMARY:Exame Unificado de Pós-graduações em Física em [ Auditório B1
 01/102 do CAD 3]
DTSTART;TZID=America/Sao_Paulo;VALUE=DATE-TIME:20250415T130000
DTEND;TZID=America/Sao_Paulo;VALUE=DATE-TIME:20250415T190000
DTSTAMP;VALUE=DATE-TIME:20260419T104219Z
UID:297c263ebd2048988ba6a4704b2f1042@150.164.76.86:8080
CREATED;VALUE=DATE-TIME:20250310T152328Z
DESCRIPTION:Ar condicionado e iluminação.
LAST-MODIFIED;VALUE=DATE-TIME:20250311T140024Z
URL:http://150.164.76.86:8080/cac/agenda/7979301559070127878
END:VEVENT
BEGIN:VTIMEZONE
TZID:America/Sao_Paulo
X-LIC-LOCATION:America/Sao_Paulo
BEGIN:STANDARD
DTSTART;VALUE=DATE-TIME:20250215T230000
TZNAME:BRT
TZOFFSETFROM:-0200
TZOFFSETTO:-0300
END:STANDARD
END:VTIMEZONE
END:VCALENDAR
