BEGIN:VCALENDAR
VERSION:2.0
PRODID:-//Plone.org//NONSGML plone.app.event//EN
X-WR-TIMEZONE:America/Sao_Paulo
BEGIN:VEVENT
SUMMARY:DIA DO FILHO PRÓDIGO em [ Outros espacos]
DTSTART;TZID=America/Sao_Paulo;VALUE=DATE-TIME:20240615T100000
DTEND;TZID=America/Sao_Paulo;VALUE=DATE-TIME:20240615T200000
DTSTAMP;VALUE=DATE-TIME:20260420T014338Z
UID:5f8660f4ebcf4c0fb8b5f9f4483a8d52@150.164.76.86:8080
CREATED;VALUE=DATE-TIME:20240412T124431Z
DESCRIPTION:O Dia do Filho Pródigo é um evento que ocorre anualmente com
  o objetivo de proporcionar o reencontro dos ex-alunos do COLTEC no ambien
 te do colégio\, onde estudaram. Este evento tornou-se uma tradição e é
  realizado desde 1986\, reunindo ex-alunos de várias gerações e perpetu
 ando os laços de amizade adquiridos durante o curso. O COLTEC é a única
  escola que possui um evento de tamanha tradição em Belo Horizonte. Esse
  é um dos maiores eventos do país no gênero.\n\nEsse ano será realizad
 o no terceiro sábado de junho\, 15/06/2024 das 11 às 20 h.\n\nAlgumas ba
 ndas de ex-Coltecanos irão se apresentar e estamos solicitando\, mais uma
  vez\, o apoio inestimável da CAC para o fornecimento do sistema de som q
 ue possua:\n\nMesa amplificadora de alta potência (o espaço é externo e
  teremos várias centenas de pessoas) com entrada para violão\, baixo\, t
 eclado\, guitarra e bateria  e com entrada para som mecânico-CD\, mp3\, 2
  Caixas de retorno\, Seis microfones(2 para voz e 4 para captação dos in
 strumentos)\, Os cabos para conexão\, Caixas de som – 2 de grande porte
  pelo menos\, extensão e filtro de linha.\n\nDepois entraremos em contato
  com os técnicos que sugerirem e eles serão devidamente remunerados pela
  organização do evento.
LAST-MODIFIED;VALUE=DATE-TIME:20240604T141659Z
URL:http://150.164.76.86:8080/cac/agenda/7976234103483435593
END:VEVENT
BEGIN:VTIMEZONE
TZID:America/Sao_Paulo
X-LIC-LOCATION:America/Sao_Paulo
BEGIN:STANDARD
DTSTART;VALUE=DATE-TIME:20240217T230000
TZNAME:BRT
TZOFFSETFROM:-0200
TZOFFSETTO:-0300
END:STANDARD
END:VTIMEZONE
END:VCALENDAR
