BEGIN:VCALENDAR
VERSION:2.0
PRODID:-//Plone.org//NONSGML plone.app.event//EN
X-WR-TIMEZONE:America/Sao_Paulo
BEGIN:VEVENT
SUMMARY:CAPACIDADE EXCEDIDA em [ Entorno da Praca de Servicos Auditorio No
 bre do CAD 1 Auditorio 1A do CAD 1 Auditorio 2A do CAD 1 Auditório B302 d
 o CAD 3 Auditório B101/102 do CAD 3 Auditório B301 do CAD 3]
DTSTART;TZID=America/Sao_Paulo;VALUE=DATE-TIME:20200702T070000
DTEND;TZID=America/Sao_Paulo;VALUE=DATE-TIME:20200703T170000
DTSTAMP;VALUE=DATE-TIME:20260424T210515Z
UID:b67e0b9605d94844974034178ecce212@150.164.76.86:8080
CREATED;VALUE=DATE-TIME:20200206T113730Z
DESCRIPTION:<p>.</p>
LAST-MODIFIED;VALUE=DATE-TIME:20230111T201040Z
URL:http://150.164.76.86:8080/cac/agenda/7969635345391482943
END:VEVENT
BEGIN:VTIMEZONE
TZID:America/Sao_Paulo
X-LIC-LOCATION:America/Sao_Paulo
BEGIN:STANDARD
DTSTART;VALUE=DATE-TIME:20200215T230000
TZNAME:BRT
TZOFFSETFROM:-0200
TZOFFSETTO:-0300
END:STANDARD
END:VTIMEZONE
END:VCALENDAR
