BEGIN:VCALENDAR
VERSION:2.0
PRODID:-//Plone.org//NONSGML plone.app.event//EN
X-WR-TIMEZONE:America/Sao_Paulo
BEGIN:VEVENT
SUMMARY:Posse da Gestão 2023-2024 da Associação de Pós-Graduandos da  
 UFMG (APG-UFMG) em [ Arena da praça de serviços]
DTSTART;TZID=America/Sao_Paulo;VALUE=DATE-TIME:20230613T170000
DTEND;TZID=America/Sao_Paulo;VALUE=DATE-TIME:20230613T200000
DTSTAMP;VALUE=DATE-TIME:20260421T121929Z
UID:61392c825dbb4491ba2597ef2d13b430@150.164.76.86:8080
CREATED;VALUE=DATE-TIME:20230509T180223Z
DESCRIPTION:Solenidade de posse da gestão 2023/2024 da Associação dos P
 ós-Graduandos da UFMG.
LAST-MODIFIED;VALUE=DATE-TIME:20230530T110758Z
URL:http://150.164.76.86:8080/cac/agenda/7969208800342889855
END:VEVENT
BEGIN:VTIMEZONE
TZID:America/Sao_Paulo
X-LIC-LOCATION:America/Sao_Paulo
BEGIN:STANDARD
DTSTART;VALUE=DATE-TIME:20230225T230000
TZNAME:BRT
TZOFFSETFROM:-0200
TZOFFSETTO:-0300
END:STANDARD
END:VTIMEZONE
END:VCALENDAR
