BEGIN:VCALENDAR
VERSION:2.0
PRODID:-//Plone.org//NONSGML plone.app.event//EN
X-WR-TIMEZONE:America/Sao_Paulo
BEGIN:VEVENT
SUMMARY:Enade 2023 - Orientações aos estudantes concluintes inscritos em
  [ Outros espacos]
DTSTART;TZID=America/Sao_Paulo;VALUE=DATE-TIME:20230915T140000
DTEND;TZID=America/Sao_Paulo;VALUE=DATE-TIME:20230915T150000
DTSTAMP;VALUE=DATE-TIME:20260421T080223Z
UID:92d3196e1e7a41e7a2af7b58ca8cee5e@150.164.76.86:8080
CREATED;VALUE=DATE-TIME:20230825T160615Z
DESCRIPTION:Trata-se de uma live\, organizada pela Diretoria de Avaliaçã
 o Institucional (DAI) da UFMG\, para coordenadores de curso\, professores 
 e estudantes concluintes inscritos de 22 cursos de graduação que irão p
 articipar do \nExame Nacional de Desempenho dos Estudantes (Enade 2023) pa
 ra uma conversa sobre o exame e esclarecimentos de dúvidas.\nO evento aco
 ntecerá em duas etapas:\n1ª - Apresentação do Exame\, com esclarecimen
 tos sobre procedimentos\, formato da prova e importância para o aluno\, p
 ara o curso e para a instituição\;\n2ª - Esclarecimento de dúvidas apr
 esentadas via chat.\nA live contará com a participação da Diretora e da
  Diretora-Adjunta da DAI.
LAST-MODIFIED;VALUE=DATE-TIME:20230825T171734Z
URL:http://150.164.76.86:8080/cac/agenda/7926838642621781346
END:VEVENT
BEGIN:VTIMEZONE
TZID:America/Sao_Paulo
X-LIC-LOCATION:America/Sao_Paulo
BEGIN:STANDARD
DTSTART;VALUE=DATE-TIME:20230225T230000
TZNAME:BRT
TZOFFSETFROM:-0200
TZOFFSETTO:-0300
END:STANDARD
END:VTIMEZONE
END:VCALENDAR
