BEGIN:VCALENDAR
VERSION:2.0
PRODID:-//Plone.org//NONSGML plone.app.event//EN
X-WR-TIMEZONE:America/Sao_Paulo
BEGIN:VEVENT
SUMMARY:II encontro nacional de bibliotecarias/os negras/os em em [ Audito
 rio A102 do Cad 2]
DTSTART;TZID=America/Sao_Paulo;VALUE=DATE-TIME:20200827T070000
DTEND;TZID=America/Sao_Paulo;VALUE=DATE-TIME:20200827T170000
DTSTAMP;VALUE=DATE-TIME:20260424T200321Z
UID:7c44d6e0b7694645866b62f0733318f7@150.164.76.86:8080
CREATED;VALUE=DATE-TIME:20200306T215812Z
DESCRIPTION:<p>equipamentos de audio e video</p>
LAST-MODIFIED;VALUE=DATE-TIME:20200408T140338Z
URL:http://150.164.76.86:8080/cac/agenda/7895382863069127876
END:VEVENT
BEGIN:VTIMEZONE
TZID:America/Sao_Paulo
X-LIC-LOCATION:America/Sao_Paulo
BEGIN:STANDARD
DTSTART;VALUE=DATE-TIME:20200215T230000
TZNAME:BRT
TZOFFSETFROM:-0200
TZOFFSETTO:-0300
END:STANDARD
END:VTIMEZONE
END:VCALENDAR
