BEGIN:VCALENDAR
VERSION:2.0
PRODID:-//Plone.org//NONSGML plone.app.event//EN
X-WR-TIMEZONE:America/Sao_Paulo
BEGIN:VEVENT
SUMMARY:XVII ENCONTRO BRASILEIRO DE PATOLOGISTAS  DE ORGANISMOS AQUÁTICOS
  em [ Auditório B101/102 do CAD 3 Auditório B106 do CAD3 Auditório B107
  do CAD3]
DTSTART;TZID=America/Sao_Paulo;VALUE=DATE-TIME:20231002T080000
DTEND;TZID=America/Sao_Paulo;VALUE=DATE-TIME:20231006T210000
DTSTAMP;VALUE=DATE-TIME:20260420T130605Z
UID:7bc093a6a38c4305bd90de1f4a23b559@150.164.76.86:8080
CREATED;VALUE=DATE-TIME:20230124T224650Z
DESCRIPTION:<p>Encontro Brasileiro de Patologistas de Organismos Aquático
 s (ENBRAPOA) é um evento bianual e congrega os pesquisadores desta import
 ante área do conhecimento\, do Brasil e do exterior\, que objetivam\, par
 ticularmente\, a troca de informações científicas e técnicas\, visando
  o desenvolvimento cada vez maior da aquicultura em nosso país. O ENBRAPO
 A é um evento que já se tornou referência nacional na discussão das di
 versas doenças que acometem os organismos aquáticos e sua expressão cie
 ntífica conta com a participação de pesquisadores\, professores\, aluno
 s de graduação e pós-graduação brasileiros e de outros países da Am
 érica Latina como Argentina\, Chile e Uruguai e também europeus\, como P
 ortugal e Espanha. O XVII ENBRAPOA será realizado na cidade de Belo Horiz
 onte\, que foi escolhida por estar em uma região central de nosso país\,
  facilitando a vinda dos congressistas e também por ser um centro com imp
 ortantes instituições voltadas à pesquisa das patologias de organismos 
 aquáticos. O XVII ENBRAPOA tem como objetivo promover o encontro de pesqu
 isadores\, docentes\, técnicos\, alunos de graduação e de pós-graduaç
 ão\, produtores e todos os atores envolvidos e interessados nas questões
  referentes a patologia dos organismos aquáticos no Brasil para debater\,
  palestrar\, discutir\, estabelecer medidas de ação e nortear estudos pa
 ra um futuro próximo na área de Aquicultura. METODOLOGIA DO PROJETO Form
 ato do evento: o evento será realizado no formato presencial. Data e hor
 ário do evento: 04 a 06/10/2023 de 08:00 às 20:00 horas. Local do evento
 : o evento será realizado na cidade de Belo Horizonte\, campus UFMG\, CAD
 3. Público-alvo do evento: o evento tem como público-alvo: pesquisadores
  de institutos de pesquisas\; docentes universitários e de escolas técni
 cas\; estudantes de graduação\; produtores de organismos aquáticos\, t
 écnicos governamentais e de iniciativa privada\; discentes e docentes de 
 cursos de pós-graduação das universidades do país e do exterior: Progr
 amação preliminar do evento: para o evento estão previstos a realizaç
 ão de palestras (12)\, mesas redondas (4) e apresentações de trabalhos\
 , tanto na forma oral como pôster. Excetuando a abertura\, assembleia ger
 al e encerramento (que deverão ser realizadas no auditório B101/B102 CAD
 3)\, as demais atividades do evento serão realizadas em duas salas simult
 âneas (por isso a sugestão dos auditórios B106 e B107 CAD3). Teremos pa
 lestrantes de outros países\, portanto iremos precisar usar as cabines de
  tradução simultânea. Para o evento está prevista a realização de co
 ffee break (2 por dia de evento)\, portanto precisamos da uma área para i
 sso. Precisamos de uma área externa para a exposição de pôsteres (vamo
 s definir ainda se contrataremos uma empresa para colocar divisórias de s
 tands ou se solicitaremos os cavaletes/suportes da UFMG) Precisamos de uma
  área para o credenciamento dos congressistas e para stands de empresas p
 atrocinadoras (máximo 8 empresas). Com relação ao áudio-visual: provid
 enciaremos um servidor da UFMG com tal especialização e\, este\, irá co
 ordenar uma equipe terceirizada que será contratada.</p>
LAST-MODIFIED;VALUE=DATE-TIME:20230913T143611Z
URL:http://150.164.76.86:8080/cac/agenda/7894233625993239935
END:VEVENT
BEGIN:VTIMEZONE
TZID:America/Sao_Paulo
X-LIC-LOCATION:America/Sao_Paulo
BEGIN:STANDARD
DTSTART;VALUE=DATE-TIME:20230225T230000
TZNAME:BRT
TZOFFSETFROM:-0200
TZOFFSETTO:-0300
END:STANDARD
END:VTIMEZONE
END:VCALENDAR
