BEGIN:VCALENDAR
VERSION:2.0
PRODID:-//Plone.org//NONSGML plone.app.event//EN
X-WR-TIMEZONE:America/Sao_Paulo
BEGIN:VEVENT
SUMMARY:Reunião Conselho Universitário em [ Outros espacos]
DTSTART;TZID=America/Sao_Paulo;VALUE=DATE-TIME:20200604T130000
DTEND;TZID=America/Sao_Paulo;VALUE=DATE-TIME:20200604T180000
DTSTAMP;VALUE=DATE-TIME:20260424T221704Z
UID:c67337a61a4c4a8493c7eda8952111eb@150.164.76.86:8080
CREATED;VALUE=DATE-TIME:20200219T203952Z
DESCRIPTION:<p><span>Reunião prevista de acordo com o calendário disponi
 bilizado pela Sods</span></p>
LAST-MODIFIED;VALUE=DATE-TIME:20200219T205118Z
URL:http://150.164.76.86:8080/cac/agenda/78855089146786618
END:VEVENT
BEGIN:VTIMEZONE
TZID:America/Sao_Paulo
X-LIC-LOCATION:America/Sao_Paulo
BEGIN:STANDARD
DTSTART;VALUE=DATE-TIME:20200215T230000
TZNAME:BRT
TZOFFSETFROM:-0200
TZOFFSETTO:-0300
END:STANDARD
END:VTIMEZONE
END:VCALENDAR
