BEGIN:VCALENDAR
VERSION:2.0
PRODID:-//Plone.org//NONSGML plone.app.event//EN
X-WR-TIMEZONE:America/Sao_Paulo
BEGIN:VEVENT
SUMMARY:11º  ENFSUDESTE em [ Auditorio Nobre do CAD 1]
DTSTART;TZID=America/Sao_Paulo;VALUE=DATE-TIME:20240808T080000
DTEND;TZID=America/Sao_Paulo;VALUE=DATE-TIME:20240810T130000
DTSTAMP;VALUE=DATE-TIME:20260419T223022Z
UID:2ee696c36055425d9e5dc42cea9ed246@150.164.76.86:8080
CREATED;VALUE=DATE-TIME:20240202T155304Z
DESCRIPTION:<p>A Programação final do evento ainda não foi concluida. S
 erá um evento que reunirá profissionais da área de enfermagem da regiã
 o sudeste. Vamos precisar de equipamentos de audiovisual\, som e microfone
 s</p>
LAST-MODIFIED;VALUE=DATE-TIME:20240726T174205Z
URL:http://150.164.76.86:8080/cac/agenda/7882181392672051343
END:VEVENT
BEGIN:VTIMEZONE
TZID:America/Sao_Paulo
X-LIC-LOCATION:America/Sao_Paulo
BEGIN:STANDARD
DTSTART;VALUE=DATE-TIME:20240217T230000
TZNAME:BRT
TZOFFSETFROM:-0200
TZOFFSETTO:-0300
END:STANDARD
END:VTIMEZONE
END:VCALENDAR
