BEGIN:VCALENDAR
VERSION:2.0
PRODID:-//Plone.org//NONSGML plone.app.event//EN
X-WR-TIMEZONE:America/Sao_Paulo
BEGIN:VEVENT
SUMMARY:MERCADO DAS PULGAS em [ Em torno da Praca de Servicos]
DTSTART;TZID=America/Sao_Paulo;VALUE=DATE-TIME:20201123T080000
DTEND;TZID=America/Sao_Paulo;VALUE=DATE-TIME:20201127T170000
DTSTAMP;VALUE=DATE-TIME:20260424T160957Z
UID:fa3d3d98590c4a0b86b2eb32052a6370@150.164.76.86:8080
CREATED;VALUE=DATE-TIME:20200210T133608Z
DESCRIPTION:MERCADO DAS PULGAS\nPRECISAMOS DE 90 PAINEIS
LAST-MODIFIED;VALUE=DATE-TIME:20200213T142843Z
URL:http://150.164.76.86:8080/cac/agenda/7878876308294127325
END:VEVENT
BEGIN:VTIMEZONE
TZID:America/Sao_Paulo
X-LIC-LOCATION:America/Sao_Paulo
BEGIN:DAYLIGHT
DTSTART;VALUE=DATE-TIME:20201018T010000
TZNAME:BRST
TZOFFSETFROM:-0300
TZOFFSETTO:-0200
END:DAYLIGHT
END:VTIMEZONE
END:VCALENDAR
