BEGIN:VCALENDAR
VERSION:2.0
PRODID:-//Plone.org//NONSGML plone.app.event//EN
X-WR-TIMEZONE:America/Sao_Paulo
BEGIN:VEVENT
SUMMARY:Sessão pública para definição de vagas de reserva em [ Outros 
 espacos]
DTSTART;TZID=America/Sao_Paulo;VALUE=DATE-TIME:20250331T100000
DTEND;TZID=America/Sao_Paulo;VALUE=DATE-TIME:20250331T110000
DTSTAMP;VALUE=DATE-TIME:20260419T120248Z
UID:60f89fe1d1af42589bfc0076562c9fbf@150.164.76.86:8080
CREATED;VALUE=DATE-TIME:20250307T164335Z
DESCRIPTION:<p>Sessão pública/sorteio para cotas\, de vagas de magistér
 io\, na plataforma Zoom\, no youtube da CAC.</p>
LAST-MODIFIED;VALUE=DATE-TIME:20250307T213925Z
URL:http://150.164.76.86:8080/cac/agenda/7858787297346667729
END:VEVENT
BEGIN:VTIMEZONE
TZID:America/Sao_Paulo
X-LIC-LOCATION:America/Sao_Paulo
BEGIN:STANDARD
DTSTART;VALUE=DATE-TIME:20250215T230000
TZNAME:BRT
TZOFFSETFROM:-0200
TZOFFSETTO:-0300
END:STANDARD
END:VTIMEZONE
END:VCALENDAR
