BEGIN:VCALENDAR
VERSION:2.0
PRODID:-//Plone.org//NONSGML plone.app.event//EN
X-WR-TIMEZONE:America/Sao_Paulo
BEGIN:VEVENT
SUMMARY:Palestra - Mestrado e doutorado: como posso me preparar desde agor
 a? Ciclo de Palestras EPP em [ Auditorio A102 do Cad 2]
DTSTART;TZID=America/Sao_Paulo;VALUE=DATE-TIME:20231106T140000
DTEND;TZID=America/Sao_Paulo;VALUE=DATE-TIME:20231106T160000
DTSTAMP;VALUE=DATE-TIME:20260420T131857Z
UID:8cdfdbaef7aa40dd915d719cce040b54@150.164.76.86:8080
CREATED;VALUE=DATE-TIME:20230925T221202Z
DESCRIPTION:<p>Trata-se de palestra que faz parte de um ciclo que está se
 ndo organizada pela DDP/PRORH atendendo ao Plano de Desenvolvimento de Pes
 soas da UFMG 2023\, a ação é voltada a servidores TAE da universidade. 
 A ação contará com a participação presencial de inscritos (limitado 
 à capacidade do espaço) e transmissão online pública e aberta a todos 
 os interessados no YouTube da CAC. Na descrição do vídeo deverá estar 
 disponível o link de lista de presença: https://forms.gle/DhN5jD3JJsAzGy
 gG7 - Título para a transmissão: Palestra -Mestrado e doutorado: como po
 sso me preparar desde agora? Ciclo de Palestras EPP. - Quantidade de pesso
 as na transmissão: Serão dois palestrantes (que irão interagir entre si
 )\; - Eles precisarão de: notebook e projeção de apresentação de slid
 es\; - Não será necessária mesa de credenciamento\, será somente passa
 da lista de presença por servidores da DDP.</p>
LAST-MODIFIED;VALUE=DATE-TIME:20230926T152235Z
URL:http://150.164.76.86:8080/cac/agenda/7848448775862651125
END:VEVENT
BEGIN:VTIMEZONE
TZID:America/Sao_Paulo
X-LIC-LOCATION:America/Sao_Paulo
BEGIN:DAYLIGHT
DTSTART;VALUE=DATE-TIME:20231015T010000
TZNAME:BRST
TZOFFSETFROM:-0300
TZOFFSETTO:-0200
END:DAYLIGHT
END:VTIMEZONE
END:VCALENDAR
