BEGIN:VCALENDAR
VERSION:2.0
PRODID:-//Plone.org//NONSGML plone.app.event//EN
X-WR-TIMEZONE:America/Sao_Paulo
BEGIN:VEVENT
SUMMARY:Exame de Proficiência alunos do Coltec - alunos do 1º ano em [ A
 uditorio Nobre do CAD 1]
DTSTART;TZID=America/Sao_Paulo;VALUE=DATE-TIME:20220323T090000
DTEND;TZID=America/Sao_Paulo;VALUE=DATE-TIME:20220323T120000
DTSTAMP;VALUE=DATE-TIME:20260422T111701Z
UID:e1ec05c0fa3547bf90c529ca37e60647@150.164.76.86:8080
CREATED;VALUE=DATE-TIME:20220202T182800Z
DESCRIPTION:<p>Realização de exame de proficiência em língua inglesa p
 ara os alunos do 1º ano do Coltec. As provas precisam ocorrer de forma si
 multânea e por isso precisamos dos espaços do auditório.</p>
LAST-MODIFIED;VALUE=DATE-TIME:20220225T204201Z
URL:http://150.164.76.86:8080/cac/agenda/7842772451345360260
END:VEVENT
BEGIN:VTIMEZONE
TZID:America/Sao_Paulo
X-LIC-LOCATION:America/Sao_Paulo
BEGIN:STANDARD
DTSTART;VALUE=DATE-TIME:20220219T230000
TZNAME:BRT
TZOFFSETFROM:-0200
TZOFFSETTO:-0300
END:STANDARD
END:VTIMEZONE
END:VCALENDAR
