BEGIN:VCALENDAR
VERSION:2.0
PRODID:-//Plone.org//NONSGML plone.app.event//EN
X-WR-TIMEZONE:America/Sao_Paulo
BEGIN:VEVENT
SUMMARY:Mostra O Mundo em Beagá em [ Entorno da Praca de Servicos]
DTSTART;TZID=America/Sao_Paulo;VALUE=DATE-TIME:20221128T080000
DTEND;TZID=America/Sao_Paulo;VALUE=DATE-TIME:20221129T180000
DTSTAMP;VALUE=DATE-TIME:20260421T220920Z
UID:756f8cca17024a9db9237547a72c8bdc@150.164.76.86:8080
CREATED;VALUE=DATE-TIME:20221101T191623Z
DESCRIPTION:<p>Mostra "O Mundo em Beagá" Exposição fotográfica da dive
 rsidade cultural da Universidade Federal de Minas Gerais\, atraída pelo s
 istema de ensino e acolhida pelos mineiros de Belo Horizonte\, para inclus
 ão desses alunos. Não precisarei de recursos.</p>
LAST-MODIFIED;VALUE=DATE-TIME:20221101T201844Z
URL:http://150.164.76.86:8080/cac/agenda/7836953318326001826
END:VEVENT
BEGIN:VTIMEZONE
TZID:America/Sao_Paulo
X-LIC-LOCATION:America/Sao_Paulo
BEGIN:DAYLIGHT
DTSTART;VALUE=DATE-TIME:20221016T010000
TZNAME:BRST
TZOFFSETFROM:-0300
TZOFFSETTO:-0200
END:DAYLIGHT
END:VTIMEZONE
END:VCALENDAR
