BEGIN:VCALENDAR
VERSION:2.0
PRODID:-//Plone.org//NONSGML plone.app.event//EN
X-WR-TIMEZONE:America/Sao_Paulo
BEGIN:VEVENT
SUMMARY:Recepção de Calouros 2/204 em [ Auditorio da Reitoria Arena da p
 raça de serviços Auditorio Nobre do CAD 1 Auditorio 1A do CAD 1 Auditori
 o 2A do CAD 1 Auditorio A102 do Cad 2 Auditorio A104 do Cad 2 Auditório B
 101/102 do CAD 3 Auditório B106 do CAD3 Auditório B107 do CAD3]
DTSTART;TZID=America/Sao_Paulo;VALUE=DATE-TIME:20240919T080000
DTEND;TZID=America/Sao_Paulo;VALUE=DATE-TIME:20240924T220000
DTSTAMP;VALUE=DATE-TIME:20260419T222147Z
UID:afb7bef65eea4bd2b2e2debe0fcdfd74@150.164.76.86:8080
CREATED;VALUE=DATE-TIME:20231106T131707Z
DESCRIPTION:<p>Recepção de calouros 23 e 24/09.</p>\n<p> </p>
LAST-MODIFIED;VALUE=DATE-TIME:20240625T153243Z
URL:http://150.164.76.86:8080/cac/agenda/7831333163050479906
END:VEVENT
BEGIN:VTIMEZONE
TZID:America/Sao_Paulo
X-LIC-LOCATION:America/Sao_Paulo
BEGIN:STANDARD
DTSTART;VALUE=DATE-TIME:20240217T230000
TZNAME:BRT
TZOFFSETFROM:-0200
TZOFFSETTO:-0300
END:STANDARD
END:VTIMEZONE
END:VCALENDAR
