BEGIN:VCALENDAR
VERSION:2.0
PRODID:-//Plone.org//NONSGML plone.app.event//EN
X-WR-TIMEZONE:America/Sao_Paulo
BEGIN:VEVENT
SUMMARY:14º Seminário de Teses e Dissertações em [ Auditorio A104 do C
 ad 2]
DTSTART;TZID=America/Sao_Paulo;VALUE=DATE-TIME:20231121T080000
DTEND;TZID=America/Sao_Paulo;VALUE=DATE-TIME:20231122T180000
DTSTAMP;VALUE=DATE-TIME:20260420T131921Z
UID:d8964c3033d84e798721cd18234dd452@150.164.76.86:8080
CREATED;VALUE=DATE-TIME:20230905T125442Z
DESCRIPTION:<p>Organizado anualmente pela representação discente do Prog
 rama de Pós-graduação em Estudos Linguísticos da Faculdade de Letras d
 a UFMG\, o Seminário de Teses e Dissertações (SETED) é um evento cujo 
 objetivo é criar um espaço de debate entre pesquisadores\, professores c
 onvidados e toda a comunidade acadêmica\, a fim de contribuir com o desen
 volvimento das pesquisas em andamento\, discutindo questões teóricas\, m
 etodológicas e resultados das investigações\, além de favorecer a cria
 ção e o estreitamento de laços acadêmicos.</p>
LAST-MODIFIED;VALUE=DATE-TIME:20231031T121832Z
URL:http://150.164.76.86:8080/cac/agenda/7811686913307952316
END:VEVENT
BEGIN:VTIMEZONE
TZID:America/Sao_Paulo
X-LIC-LOCATION:America/Sao_Paulo
BEGIN:DAYLIGHT
DTSTART;VALUE=DATE-TIME:20231015T010000
TZNAME:BRST
TZOFFSETFROM:-0300
TZOFFSETTO:-0200
END:DAYLIGHT
END:VTIMEZONE
END:VCALENDAR
