BEGIN:VCALENDAR
VERSION:2.0
PRODID:-//Plone.org//NONSGML plone.app.event//EN
X-WR-TIMEZONE:America/Sao_Paulo
BEGIN:VEVENT
SUMMARY:Futuro\, essa palavra em [ Outros espacos]
DTSTART;TZID=America/Sao_Paulo;VALUE=DATE-TIME:20221212T190000
DTEND;TZID=America/Sao_Paulo;VALUE=DATE-TIME:20221212T220000
DTSTAMP;VALUE=DATE-TIME:20260421T222257Z
UID:a8283362e7b446f28a5875cdb46dcf40@150.164.76.86:8080
CREATED;VALUE=DATE-TIME:20221202T140551Z
DESCRIPTION:<p>Em conversa com o Prof. Carlos Mendonça assessor da Reitor
 a\, no dia 01/12\, a demanda  da CAC é garantir a gravação do evento e
  posterior disponibilização no canal da CAC do Youtube. O Evento será n
 o auditório principal do conservatório de Música da UFMG. Toda demanda 
 técnica será de responsabilidade do corpo técnico do Conservatório\, a
  não ser o registro de imagem. Haverá composição de mesa e palestra. P
 RESENÇA DA REITORA.</p>\n<p>Obs: Antes desse evento\, haverá um concerto
  nesse mesmo auditório. Ele não tem relação com esse evento. Assim que
  terminar\, será montada a mesa para a conferência. </p>
LAST-MODIFIED;VALUE=DATE-TIME:20221202T141621Z
URL:http://150.164.76.86:8080/cac/agenda/7804182077343789184
END:VEVENT
BEGIN:VTIMEZONE
TZID:America/Sao_Paulo
X-LIC-LOCATION:America/Sao_Paulo
BEGIN:DAYLIGHT
DTSTART;VALUE=DATE-TIME:20221016T010000
TZNAME:BRST
TZOFFSETFROM:-0300
TZOFFSETTO:-0200
END:DAYLIGHT
END:VTIMEZONE
END:VCALENDAR
