BEGIN:VCALENDAR
VERSION:2.0
PRODID:-//Plone.org//NONSGML plone.app.event//EN
X-WR-TIMEZONE:America/Sao_Paulo
BEGIN:VEVENT
SUMMARY:V EnACE em [ Auditorio A102 do Cad 2]
DTSTART;TZID=America/Sao_Paulo;VALUE=DATE-TIME:20250321T110000
DTEND;TZID=America/Sao_Paulo;VALUE=DATE-TIME:20250321T180000
DTSTAMP;VALUE=DATE-TIME:20260419T115941Z
UID:10fe36a030424be2b98d8adbc3d6edd3@150.164.76.86:8080
CREATED;VALUE=DATE-TIME:20250116T185615Z
DESCRIPTION:Som\, datashow
LAST-MODIFIED;VALUE=DATE-TIME:20250311T190542Z
URL:http://150.164.76.86:8080/cac/agenda/778596479983154796
END:VEVENT
BEGIN:VTIMEZONE
TZID:America/Sao_Paulo
X-LIC-LOCATION:America/Sao_Paulo
BEGIN:STANDARD
DTSTART;VALUE=DATE-TIME:20250215T230000
TZNAME:BRT
TZOFFSETFROM:-0200
TZOFFSETTO:-0300
END:STANDARD
END:VTIMEZONE
END:VCALENDAR
